BEGIN:VCALENDAR
VERSION:2.0
PRODID:-// - ECPv6.7.0//NONSGML v1.0//EN
CALSCALE:GREGORIAN
METHOD:PUBLISH
X-ORIGINAL-URL:https://msdtf.org
X-WR-CALDESC:Events for 
REFRESH-INTERVAL;VALUE=DURATION:PT1H
X-Robots-Tag:noindex
X-PUBLISHED-TTL:PT1H
BEGIN:VTIMEZONE
TZID:UTC
BEGIN:STANDARD
TZOFFSETFROM:+0000
TZOFFSETTO:+0000
TZNAME:UTC
DTSTART:20230101T000000
END:STANDARD
END:VTIMEZONE
BEGIN:VEVENT
DTSTART;VALUE=DATE:20231102
DTEND;VALUE=DATE:20231103
DTSTAMP:20260423T203816
CREATED:20231025T095418Z
LAST-MODIFIED:20231026T054714Z
UID:2424-1698883200-1698969599@msdtf.org
SUMMARY:Arrival of Indentured Labourers
DESCRIPTION:
URL:https://msdtf.org/event/arrival-of-indentured-labourers/
CATEGORIES:Public Holidays
END:VEVENT
BEGIN:VEVENT
DTSTART;VALUE=DATE:20231101
DTEND;VALUE=DATE:20231102
DTSTAMP:20260423T203816
CREATED:20231025T095329Z
LAST-MODIFIED:20231026T054113Z
UID:2422-1698796800-1698883199@msdtf.org
SUMMARY:All Saints Day
DESCRIPTION:
URL:https://msdtf.org/event/all-saints-day/
CATEGORIES:Public Holidays
END:VEVENT
BEGIN:VEVENT
DTSTART;VALUE=DATE:20230920
DTEND;VALUE=DATE:20230921
DTSTAMP:20260423T203816
CREATED:20231025T095258Z
LAST-MODIFIED:20231026T053609Z
UID:2420-1695168000-1695254399@msdtf.org
SUMMARY:Ganesh Chaturthi
DESCRIPTION:
URL:https://msdtf.org/event/ganesh-chaturthi/
CATEGORIES:Public Holidays
END:VEVENT
BEGIN:VEVENT
DTSTART;TZID=UTC:20230818T000000
DTEND;TZID=UTC:20230818T235900
DTSTAMP:20260423T203816
CREATED:20231025T091121Z
LAST-MODIFIED:20231025T114316Z
UID:2385-1692316800-1692403140@msdtf.org
SUMMARY:Partial Lunar Eclipse on August 18
DESCRIPTION:Enjoy the partial lunar eclipse from Abu Dhabi
URL:https://msdtf.org/event/partial-lunar-eclipse-on-august-18/
CATEGORIES:Grahan
END:VEVENT
BEGIN:VEVENT
DTSTART;VALUE=DATE:20230501
DTEND;VALUE=DATE:20230502
DTSTAMP:20260423T203816
CREATED:20231025T095219Z
LAST-MODIFIED:20231026T055003Z
UID:2418-1682899200-1682985599@msdtf.org
SUMMARY:Labour Day
DESCRIPTION:
URL:https://msdtf.org/event/labour-day/
CATEGORIES:Public Holidays
END:VEVENT
BEGIN:VEVENT
DTSTART;VALUE=DATE:20230422
DTEND;VALUE=DATE:20230423
DTSTAMP:20260423T203816
CREATED:20231025T095001Z
LAST-MODIFIED:20231026T055347Z
UID:2416-1682121600-1682207999@msdtf.org
SUMMARY:Eid-Ul-Fitr
DESCRIPTION:
URL:https://msdtf.org/event/eid-ul-fitr/
CATEGORIES:Public Holidays
END:VEVENT
BEGIN:VEVENT
DTSTART;TZID=UTC:20230412T102000
DTEND;TZID=UTC:20230412T123000
DTSTAMP:20260423T203816
CREATED:20231025T091119Z
LAST-MODIFIED:20231025T091326Z
UID:2383-1681294800-1681302600@msdtf.org
SUMMARY:Total Solar Eclipse on December 4
DESCRIPTION:A total solar eclipse visible in Abu Dhabi
URL:https://msdtf.org/event/total-solar-eclipse-on-december-4/
CATEGORIES:Grahan
END:VEVENT
BEGIN:VEVENT
DTSTART;VALUE=DATE:20230322
DTEND;VALUE=DATE:20230323
DTSTAMP:20260423T203816
CREATED:20231025T094825Z
LAST-MODIFIED:20231026T053538Z
UID:2413-1679443200-1679529599@msdtf.org
SUMMARY:Ugaadi
DESCRIPTION:
URL:https://msdtf.org/event/ugaadi/
CATEGORIES:Public Holidays
END:VEVENT
BEGIN:VEVENT
DTSTART;VALUE=DATE:20230312
DTEND;VALUE=DATE:20230313
DTSTAMP:20260423T203816
CREATED:20231025T094747Z
LAST-MODIFIED:20231026T053902Z
UID:2411-1678579200-1678665599@msdtf.org
SUMMARY:Independence and Republic day
DESCRIPTION:
URL:https://msdtf.org/event/independence-and-republic-day/
CATEGORIES:Public Holidays
END:VEVENT
BEGIN:VEVENT
DTSTART;VALUE=DATE:20230218
DTEND;VALUE=DATE:20230219
DTSTAMP:20260423T203816
CREATED:20231025T094710Z
LAST-MODIFIED:20231026T053218Z
UID:2409-1676678400-1676764799@msdtf.org
SUMMARY:Maha Shivaratree
DESCRIPTION:
URL:https://msdtf.org/event/maha-shivaratree/
CATEGORIES:Public Holidays
END:VEVENT
BEGIN:VEVENT
DTSTART;VALUE=DATE:20230217
DTEND;VALUE=DATE:20230218
DTSTAMP:20260423T203816
CREATED:20231025T091123Z
LAST-MODIFIED:20231025T110913Z
UID:2387-1676592000-1676678399@msdtf.org
SUMMARY:Annular Solar Eclipse on February 17
DESCRIPTION:Witness the annular solar eclipse from Saadiyat Beach
URL:https://msdtf.org/event/annular-solar-eclipse-on-february-17/
CATEGORIES:Grahan
END:VEVENT
BEGIN:VEVENT
DTSTART;VALUE=DATE:20230216
DTEND;VALUE=DATE:20230217
DTSTAMP:20260423T203816
CREATED:20231026T094840Z
LAST-MODIFIED:20231026T094854Z
UID:2453-1676505600-1676591999@msdtf.org
SUMMARY:Vijaya Ekadashi(K)
DESCRIPTION:
URL:https://msdtf.org/event/vijaya-ekadashik/
CATEGORIES:Ekadashi Vrat
END:VEVENT
BEGIN:VEVENT
DTSTART;VALUE=DATE:20230204
DTEND;VALUE=DATE:20230205
DTSTAMP:20260423T203816
CREATED:20231025T094634Z
LAST-MODIFIED:20231026T053459Z
UID:2407-1675468800-1675555199@msdtf.org
SUMMARY:Thaipoosam Cavadee
DESCRIPTION:
URL:https://msdtf.org/event/thaipoosam-cavadee/
CATEGORIES:Public Holidays
END:VEVENT
BEGIN:VEVENT
DTSTART;VALUE=DATE:20230201
DTEND;VALUE=DATE:20230202
DTSTAMP:20260423T203816
CREATED:20231025T094602Z
LAST-MODIFIED:20231026T054543Z
UID:2405-1675209600-1675295999@msdtf.org
SUMMARY:Abolition of Slavery
DESCRIPTION:
URL:https://msdtf.org/event/abolition-of-slavery/
CATEGORIES:Public Holidays
END:VEVENT
BEGIN:VEVENT
DTSTART;VALUE=DATE:20230122
DTEND;VALUE=DATE:20230123
DTSTAMP:20260423T203816
CREATED:20231025T094521Z
LAST-MODIFIED:20231026T053341Z
UID:2403-1674345600-1674431999@msdtf.org
SUMMARY:Chinese Spring Festival
DESCRIPTION:
URL:https://msdtf.org/event/chinese-spring-festival/
CATEGORIES:Public Holidays
END:VEVENT
BEGIN:VEVENT
DTSTART;TZID=UTC:20230121T044700
DTEND;TZID=UTC:20230122T005200
DTSTAMP:20260423T203816
CREATED:20231026T095902Z
LAST-MODIFIED:20231026T095902Z
UID:2462-1674276420-1674348720@msdtf.org
SUMMARY:Magha\, Krishna Amavasya
DESCRIPTION:
URL:https://msdtf.org/event/magha-krishna-amavasya/
CATEGORIES:Masik Amavasya
END:VEVENT
BEGIN:VEVENT
DTSTART;VALUE=DATE:20230118
DTEND;VALUE=DATE:20230119
DTSTAMP:20260423T203816
CREATED:20231026T094740Z
LAST-MODIFIED:20231026T094943Z
UID:2451-1674000000-1674086399@msdtf.org
SUMMARY:Shattila Ekadashi(K)
DESCRIPTION:
URL:https://msdtf.org/event/shattila-ekadashik/
CATEGORIES:Ekadashi Vrat
END:VEVENT
BEGIN:VEVENT
DTSTART;VALUE=DATE:20230102
DTEND;VALUE=DATE:20230103
DTSTAMP:20260423T203816
CREATED:20231026T094622Z
LAST-MODIFIED:20231026T094949Z
UID:2448-1672617600-1672703999@msdtf.org
SUMMARY:Pausha Putrada Ekadashi(S)
DESCRIPTION:
URL:https://msdtf.org/event/ekadashi-january-2023/
CATEGORIES:Ekadashi Vrat
END:VEVENT
BEGIN:VEVENT
DTSTART;VALUE=DATE:20230102
DTEND;VALUE=DATE:20230103
DTSTAMP:20260423T203816
CREATED:20231025T075957Z
LAST-MODIFIED:20231027T071644Z
UID:2370-1672617600-1672703999@msdtf.org
SUMMARY:New Year
DESCRIPTION:
URL:https://msdtf.org/event/new-year/
CATEGORIES:Public Holidays
END:VEVENT
END:VCALENDAR