BEGIN:VCALENDAR
VERSION:2.0
PRODID:-// - ECPv6.7.0//NONSGML v1.0//EN
CALSCALE:GREGORIAN
METHOD:PUBLISH
X-ORIGINAL-URL:https://msdtf.org
X-WR-CALDESC:Events for 
REFRESH-INTERVAL;VALUE=DURATION:PT1H
X-Robots-Tag:noindex
X-PUBLISHED-TTL:PT1H
BEGIN:VTIMEZONE
TZID:UTC
BEGIN:STANDARD
TZOFFSETFROM:+0000
TZOFFSETTO:+0000
TZNAME:UTC
DTSTART:20230101T000000
END:STANDARD
END:VTIMEZONE
BEGIN:VEVENT
DTSTART;VALUE=DATE:20231222
DTEND;VALUE=DATE:20231223
DTSTAMP:20260425T183218
CREATED:20231026T112055Z
LAST-MODIFIED:20231026T112115Z
UID:2494-1703203200-1703289599@msdtf.org
SUMMARY:Gita Jayanti
DESCRIPTION:
URL:https://msdtf.org/event/gita-jayanti/
CATEGORIES:Vrat Tyohar
END:VEVENT
BEGIN:VEVENT
DTSTART;VALUE=DATE:20231127
DTEND;VALUE=DATE:20231128
DTSTAMP:20260425T183218
CREATED:20231026T111350Z
LAST-MODIFIED:20231026T111350Z
UID:2492-1701043200-1701129599@msdtf.org
SUMMARY:Kartika Purnima
DESCRIPTION:
URL:https://msdtf.org/event/kartika-purnima/
CATEGORIES:Vrat Tyohar
END:VEVENT
BEGIN:VEVENT
DTSTART;VALUE=DATE:20231112
DTEND;VALUE=DATE:20231113
DTSTAMP:20260425T183218
CREATED:20231026T111258Z
LAST-MODIFIED:20231026T111258Z
UID:2490-1699747200-1699833599@msdtf.org
SUMMARY:Lakshmi Puja
DESCRIPTION:
URL:https://msdtf.org/event/lakshmi-puja/
CATEGORIES:Vrat Tyohar
END:VEVENT
END:VCALENDAR