BEGIN:VCALENDAR
VERSION:2.0
PRODID:-// - ECPv6.7.0//NONSGML v1.0//EN
CALSCALE:GREGORIAN
METHOD:PUBLISH
X-ORIGINAL-URL:https://msdtf.org
X-WR-CALDESC:Events for 
REFRESH-INTERVAL;VALUE=DURATION:PT1H
X-Robots-Tag:noindex
X-PUBLISHED-TTL:PT1H
BEGIN:VTIMEZONE
TZID:UTC
BEGIN:STANDARD
TZOFFSETFROM:+0000
TZOFFSETTO:+0000
TZNAME:UTC
DTSTART:20230101T000000
END:STANDARD
END:VTIMEZONE
BEGIN:VEVENT
DTSTART;TZID=UTC:20231211T054000
DTEND;TZID=UTC:20231212T045400
DTSTAMP:20260419T180736
CREATED:20231026T103230Z
LAST-MODIFIED:20231026T103230Z
UID:2483-1702273200-1702356840@msdtf.org
SUMMARY:Margashirsha\, Krishna Chaturdashi
DESCRIPTION:
URL:https://msdtf.org/event/margashirsha-krishna-chaturdashi/
CATEGORIES:Masik Shivratri
END:VEVENT
END:VCALENDAR