BEGIN:VCALENDAR
VERSION:2.0
PRODID:-// - ECPv6.7.0//NONSGML v1.0//EN
CALSCALE:GREGORIAN
METHOD:PUBLISH
X-ORIGINAL-URL:https://msdtf.org
X-WR-CALDESC:Events for 
REFRESH-INTERVAL;VALUE=DURATION:PT1H
X-Robots-Tag:noindex
X-PUBLISHED-TTL:PT1H
BEGIN:VTIMEZONE
TZID:UTC
BEGIN:STANDARD
TZOFFSETFROM:+0000
TZOFFSETTO:+0000
TZNAME:UTC
DTSTART:20230101T000000
END:STANDARD
END:VTIMEZONE
BEGIN:VEVENT
DTSTART;TZID=UTC:20231111T122700
DTEND;TZID=UTC:20231211T131400
DTSTAMP:20260419T145638
CREATED:20231026T103125Z
LAST-MODIFIED:20231026T103125Z
UID:2481-1699705620-1702300440@msdtf.org
SUMMARY:Kartika\, Krishna Chaturdashi
DESCRIPTION:
URL:https://msdtf.org/event/kartika-krishna-chaturdashi/
CATEGORIES:Masik Shivratri
END:VEVENT
END:VCALENDAR