BEGIN:VCALENDAR
VERSION:2.0
PRODID:-// - ECPv6.7.0//NONSGML v1.0//EN
CALSCALE:GREGORIAN
METHOD:PUBLISH
X-ORIGINAL-URL:https://msdtf.org
X-WR-CALDESC:Events for 
REFRESH-INTERVAL;VALUE=DURATION:PT1H
X-Robots-Tag:noindex
X-PUBLISHED-TTL:PT1H
BEGIN:VTIMEZONE
TZID:UTC
BEGIN:STANDARD
TZOFFSETFROM:+0000
TZOFFSETTO:+0000
TZNAME:UTC
DTSTART:20230101T000000
END:STANDARD
END:VTIMEZONE
BEGIN:VEVENT
DTSTART;TZID=UTC:20231226T041600
DTEND;TZID=UTC:20231227T163200
DTSTAMP:20260423T235213
CREATED:20231026T102839Z
LAST-MODIFIED:20231026T102839Z
UID:2479-1703564160-1703694720@msdtf.org
SUMMARY:Margashirsha\, Shukla Purnima
DESCRIPTION:
URL:https://msdtf.org/event/margashirsha-shukla-purnima/
CATEGORIES:Masik Purnima
END:VEVENT
BEGIN:VEVENT
DTSTART;TZID=UTC:20231126T142300
DTEND;TZID=UTC:20231127T131500
DTSTAMP:20260423T235213
CREATED:20231026T102658Z
LAST-MODIFIED:20231026T102921Z
UID:2477-1701008580-1701090900@msdtf.org
SUMMARY:Kartika\, Shukla Purnima
DESCRIPTION:
URL:https://msdtf.org/event/kartika-shukla-purnima/
CATEGORIES:Masik Purnima
END:VEVENT
END:VCALENDAR