BEGIN:VCALENDAR
VERSION:2.0
PRODID:-// - ECPv6.7.0//NONSGML v1.0//EN
CALSCALE:GREGORIAN
METHOD:PUBLISH
X-ORIGINAL-URL:https://msdtf.org
X-WR-CALDESC:Events for 
REFRESH-INTERVAL;VALUE=DURATION:PT1H
X-Robots-Tag:noindex
X-PUBLISHED-TTL:PT1H
BEGIN:VTIMEZONE
TZID:UTC
BEGIN:STANDARD
TZOFFSETFROM:+0000
TZOFFSETTO:+0000
TZNAME:UTC
DTSTART:20230101T000000
END:STANDARD
END:VTIMEZONE
BEGIN:VEVENT
DTSTART;TZID=UTC:20231212T045400
DTEND;TZID=UTC:20231213T153100
DTSTAMP:20260419T212752
CREATED:20231026T100251Z
LAST-MODIFIED:20231026T100251Z
UID:2469-1702356840-1702481460@msdtf.org
SUMMARY:Margashirsha\, Krishna Amavasya
DESCRIPTION:
URL:https://msdtf.org/event/margashirsha-krishna-amavasya/
CATEGORIES:Masik Amavasya
END:VEVENT
BEGIN:VEVENT
DTSTART;TZID=UTC:20231112T131400
DTEND;TZID=UTC:20231113T133000
DTSTAMP:20260419T212752
CREATED:20231026T100023Z
LAST-MODIFIED:20231026T100140Z
UID:2464-1699794840-1699882200@msdtf.org
SUMMARY:Kartika\, Krishna Amavasya
DESCRIPTION:
URL:https://msdtf.org/event/phalguna-krishna-amavasya/
CATEGORIES:Masik Amavasya
END:VEVENT
BEGIN:VEVENT
DTSTART;TZID=UTC:20230121T044700
DTEND;TZID=UTC:20230122T005200
DTSTAMP:20260419T212752
CREATED:20231026T095902Z
LAST-MODIFIED:20231026T095902Z
UID:2462-1674276420-1674348720@msdtf.org
SUMMARY:Magha\, Krishna Amavasya
DESCRIPTION:
URL:https://msdtf.org/event/magha-krishna-amavasya/
CATEGORIES:Masik Amavasya
END:VEVENT
END:VCALENDAR