BEGIN:VCALENDAR
VERSION:2.0
PRODID:-// - ECPv6.7.0//NONSGML v1.0//EN
CALSCALE:GREGORIAN
METHOD:PUBLISH
X-ORIGINAL-URL:https://msdtf.org
X-WR-CALDESC:Events for 
REFRESH-INTERVAL;VALUE=DURATION:PT1H
X-Robots-Tag:noindex
X-PUBLISHED-TTL:PT1H
BEGIN:VTIMEZONE
TZID:UTC
BEGIN:STANDARD
TZOFFSETFROM:+0000
TZOFFSETTO:+0000
TZNAME:UTC
DTSTART:20230101T000000
END:STANDARD
END:VTIMEZONE
BEGIN:VEVENT
DTSTART;TZID=UTC:20240314T060000
DTEND;TZID=UTC:20240414T180000
DTSTAMP:20260419T233843
CREATED:20231026T095456Z
LAST-MODIFIED:20231026T095456Z
UID:2460-1710396000-1713117600@msdtf.org
SUMMARY:Kharmas
DESCRIPTION:
URL:https://msdtf.org/event/kharmas-2/
CATEGORIES:Kharmass
END:VEVENT
BEGIN:VEVENT
DTSTART;TZID=UTC:20231216T060000
DTEND;TZID=UTC:20240114T180000
DTSTAMP:20260419T233843
CREATED:20231026T095351Z
LAST-MODIFIED:20231026T095351Z
UID:2458-1702706400-1705255200@msdtf.org
SUMMARY:Kharmas
DESCRIPTION:
URL:https://msdtf.org/event/kharmas/
CATEGORIES:Kharmass
END:VEVENT
END:VCALENDAR