BEGIN:VCALENDAR
VERSION:2.0
PRODID:-// - ECPv6.7.0//NONSGML v1.0//EN
CALSCALE:GREGORIAN
METHOD:PUBLISH
X-ORIGINAL-URL:https://msdtf.org
X-WR-CALDESC:Events for 
REFRESH-INTERVAL;VALUE=DURATION:PT1H
X-Robots-Tag:noindex
X-PUBLISHED-TTL:PT1H
BEGIN:VTIMEZONE
TZID:UTC
BEGIN:STANDARD
TZOFFSETFROM:+0000
TZOFFSETTO:+0000
TZNAME:UTC
DTSTART:20230101T000000
END:STANDARD
END:VTIMEZONE
BEGIN:VEVENT
DTSTART;TZID=UTC:20240430T000000
DTEND;TZID=UTC:20240430T160000
DTSTAMP:20260423T222603
CREATED:20231025T091120Z
LAST-MODIFIED:20231025T102925Z
UID:2384-1714435200-1714492800@msdtf.org
SUMMARY:Annular Solar Eclipse on April 30
DESCRIPTION:An opportunity to observe the annular solar eclipse from Al Bateen Beach in Abu Dhabi.
URL:https://msdtf.org/event/annular-solar-eclipse-on-april-30/
CATEGORIES:Grahan
END:VEVENT
BEGIN:VEVENT
DTSTART;TZID=UTC:20240329T000000
DTEND;TZID=UTC:20240329T173000
DTSTAMP:20260423T222603
CREATED:20231025T091122Z
LAST-MODIFIED:20231025T103021Z
UID:2386-1711670400-1711733400@msdtf.org
SUMMARY:Total Solar Eclipse on March 29
DESCRIPTION:Join us to view the total solar eclipse from Al Hudayriat Island in Abu Dhabi.
URL:https://msdtf.org/event/total-solar-eclipse-on-march-29/
CATEGORIES:Grahan
END:VEVENT
BEGIN:VEVENT
DTSTART;TZID=UTC:20230818T000000
DTEND;TZID=UTC:20230818T235900
DTSTAMP:20260423T222603
CREATED:20231025T091121Z
LAST-MODIFIED:20231025T114316Z
UID:2385-1692316800-1692403140@msdtf.org
SUMMARY:Partial Lunar Eclipse on August 18
DESCRIPTION:Enjoy the partial lunar eclipse from Abu Dhabi
URL:https://msdtf.org/event/partial-lunar-eclipse-on-august-18/
CATEGORIES:Grahan
END:VEVENT
BEGIN:VEVENT
DTSTART;TZID=UTC:20230412T102000
DTEND;TZID=UTC:20230412T123000
DTSTAMP:20260423T222603
CREATED:20231025T091119Z
LAST-MODIFIED:20231025T091326Z
UID:2383-1681294800-1681302600@msdtf.org
SUMMARY:Total Solar Eclipse on December 4
DESCRIPTION:A total solar eclipse visible in Abu Dhabi
URL:https://msdtf.org/event/total-solar-eclipse-on-december-4/
CATEGORIES:Grahan
END:VEVENT
BEGIN:VEVENT
DTSTART;VALUE=DATE:20230217
DTEND;VALUE=DATE:20230218
DTSTAMP:20260423T222603
CREATED:20231025T091123Z
LAST-MODIFIED:20231025T110913Z
UID:2387-1676592000-1676678399@msdtf.org
SUMMARY:Annular Solar Eclipse on February 17
DESCRIPTION:Witness the annular solar eclipse from Saadiyat Beach
URL:https://msdtf.org/event/annular-solar-eclipse-on-february-17/
CATEGORIES:Grahan
END:VEVENT
END:VCALENDAR